{
 "currentVersion": 10.71,
 "serviceDescription": "Emergencia_incendio2024/HillSha_JardinBot",
 "name": "Emergencia_incendio2024/HillSha_JardinBot",
 "description": "",
 "extent": {
  "xmin": 265120.62194000004,
  "ymin": 6339274.64161,
  "xmax": 267573.88344000006,
  "ymax": 6341629.70516,
  "spatialReference": {
   "wkid": 32719,
   "latestWkid": 32719
  }
 },
 "initialExtent": {
  "xmin": 265120.62194000004,
  "ymin": 6339274.64161,
  "xmax": 267573.88344000006,
  "ymax": 6341629.70516,
  "spatialReference": {
   "wkid": 32719,
   "latestWkid": 32719
  }
 },
 "fullExtent": {
  "xmin": 265120.62194000004,
  "ymin": 6339274.64161,
  "xmax": 267573.88344000006,
  "ymax": 6341629.70516,
  "spatialReference": {
   "wkid": 32719,
   "latestWkid": 32719
  }
 },
 "pixelSizeX": 0.3374500000000031,
 "pixelSizeY": 0.3374500000000113,
 "bandCount": 1,
 "pixelType": "U8",
 "minPixelSize": 0,
 "maxPixelSize": 0,
 "copyrightText": "",
 "serviceDataType": "esriImageServiceDataTypeGeneric",
 "minValues": [
  0
 ],
 "maxValues": [
  254
 ],
 "meanValues": [
  166.26761959136
 ],
 "stdvValues": [
  53.110882131798
 ],
 "objectIdField": "",
 "fields": [],
 "capabilities": "Image,Metadata,Mensuration",
 "defaultMosaicMethod": "Center",
 "allowedMosaicMethods": "",
 "sortField": "",
 "sortValue": null,
 "mosaicOperator": "First",
 "defaultCompressionQuality": 75,
 "defaultResamplingMethod": "Bilinear",
 "maxImageHeight": 4100,
 "maxImageWidth": 15000,
 "allowRasterFunction": true,
 "rasterFunctionInfos": [
  {
   "name": "None",
   "description": "",
   "help": ""
  }
 ],
 "rasterTypeInfos": [
  {
   "name": "Raster Dataset",
   "description": "Supports all ArcGIS Raster Datasets",
   "help": ""
  }
 ],
 "mensurationCapabilities": "Basic",
 "hasHistograms": true,
 "hasColormap": false,
 "hasRasterAttributeTable": true,
 "minScale": 0,
 "maxScale": 0,
 "exportTilesAllowed": false,
 "hasMultidimensions": false,
 "supportsStatistics": false,
 "supportsAdvancedQueries": false,
 "editFieldsInfo": null,
 "ownershipBasedAccessControlForRasters": null,
 "allowComputeTiePoints": false,
 "useStandardizedQueries": true,
 "advancedQueryCapabilities": {
  "useStandardizedQueries": true,
  "supportsStatistics": false,
  "supportsOrderBy": false,
  "supportsDistinct": false,
  "supportsPagination": false
 },
 "spatialReference": {
  "wkid": 32719,
  "latestWkid": 32719
 }
}
