{
 "currentVersion": 10.71,
 "serviceDescription": "Emergencia_incendio2024/Slope_CanalB",
 "name": "Emergencia_incendio2024/Slope_CanalB",
 "description": "",
 "extent": {
  "xmin": 263651.90775,
  "ymin": 6340332.29879,
  "xmax": 266189.5764,
  "ymax": 6342582.75843,
  "spatialReference": {
   "wkid": 32719,
   "latestWkid": 32719
  }
 },
 "initialExtent": {
  "xmin": 263651.90775,
  "ymin": 6340332.29879,
  "xmax": 266189.5764,
  "ymax": 6342582.75843,
  "spatialReference": {
   "wkid": 32719,
   "latestWkid": 32719
  }
 },
 "fullExtent": {
  "xmin": 263651.90775,
  "ymin": 6340332.29879,
  "xmax": 266189.5764,
  "ymax": 6342582.75843,
  "spatialReference": {
   "wkid": 32719,
   "latestWkid": 32719
  }
 },
 "pixelSizeX": 0.357670000000001,
 "pixelSizeY": 0.3576700000000025,
 "bandCount": 1,
 "pixelType": "F32",
 "minPixelSize": 0,
 "maxPixelSize": 0,
 "copyrightText": "",
 "serviceDataType": "esriImageServiceDataTypeGeneric",
 "minValues": [
  0
 ],
 "maxValues": [
  77.061637878418
 ],
 "meanValues": [
  19.106906993885
 ],
 "stdvValues": [
  12.78344962052
 ],
 "objectIdField": "",
 "fields": [],
 "capabilities": "Image,Mensuration,Metadata,Tilemap",
 "defaultMosaicMethod": "Center",
 "allowedMosaicMethods": "",
 "sortField": "",
 "sortValue": null,
 "mosaicOperator": "First",
 "defaultCompressionQuality": 75,
 "defaultResamplingMethod": "Bilinear",
 "maxImageHeight": 4100,
 "maxImageWidth": 15000,
 "allowRasterFunction": true,
 "rasterFunctionInfos": [
  {
   "name": "None",
   "description": "",
   "help": ""
  }
 ],
 "rasterTypeInfos": [
  {
   "name": "Raster Dataset",
   "description": "Supports all ArcGIS Raster Datasets",
   "help": ""
  }
 ],
 "mensurationCapabilities": "Basic",
 "hasHistograms": true,
 "hasColormap": false,
 "hasRasterAttributeTable": false,
 "minScale": 0,
 "maxScale": 0,
 "exportTilesAllowed": false,
 "hasMultidimensions": false,
 "supportsStatistics": false,
 "supportsAdvancedQueries": false,
 "editFieldsInfo": null,
 "ownershipBasedAccessControlForRasters": null,
 "allowComputeTiePoints": false,
 "useStandardizedQueries": true,
 "advancedQueryCapabilities": {
  "useStandardizedQueries": true,
  "supportsStatistics": false,
  "supportsOrderBy": false,
  "supportsDistinct": false,
  "supportsPagination": false
 },
 "spatialReference": {
  "wkid": 32719,
  "latestWkid": 32719
 }
}
