{
 "currentVersion": 10.71,
 "serviceDescription": "Emergencia_incendio2024/Slope_Villa_dulce",
 "name": "Emergencia_incendio2024/Slope_Villa_dulce",
 "description": "",
 "extent": {
  "xmin": 264797.85744000005,
  "ymin": 6340844.20912,
  "xmax": 267638.13884,
  "ymax": 6343485.32089,
  "spatialReference": {
   "wkid": 32719,
   "latestWkid": 32719
  }
 },
 "initialExtent": {
  "xmin": 264797.85744000005,
  "ymin": 6340844.20912,
  "xmax": 267638.13884,
  "ymax": 6343485.32089,
  "spatialReference": {
   "wkid": 32719,
   "latestWkid": 32719
  }
 },
 "fullExtent": {
  "xmin": 264797.85744000005,
  "ymin": 6340844.20912,
  "xmax": 267638.13884,
  "ymax": 6343485.32089,
  "spatialReference": {
   "wkid": 32719,
   "latestWkid": 32719
  }
 },
 "pixelSizeX": 0.29160999999999776,
 "pixelSizeY": 0.29161000000003406,
 "bandCount": 1,
 "pixelType": "F32",
 "minPixelSize": 0.26458386250105836,
 "maxPixelSize": 4.233341800016934,
 "copyrightText": "",
 "serviceDataType": "esriImageServiceDataTypeGeneric",
 "minValues": [
  0
 ],
 "maxValues": [
  69.970344543457
 ],
 "meanValues": [
  16.917276882893
 ],
 "stdvValues": [
  11.114661924279
 ],
 "objectIdField": "",
 "fields": [],
 "capabilities": "Image,Metadata,Mensuration",
 "defaultMosaicMethod": "Center",
 "allowedMosaicMethods": "",
 "sortField": "",
 "sortValue": null,
 "mosaicOperator": "First",
 "defaultCompressionQuality": 75,
 "defaultResamplingMethod": "Bilinear",
 "maxImageHeight": 4100,
 "maxImageWidth": 15000,
 "singleFusedMapCache": true,
 "tileInfo": {
  "rows": 256,
  "cols": 256,
  "dpi": 96,
  "format": "MIXED",
  "compressionQuality": 75,
  "origin": {
   "x": -5120900,
   "y": 19998100
  },
  "spatialReference": {
   "wkid": 32719,
   "latestWkid": 32719
  },
  "lods": [
   {
    "level": 0,
    "resolution": 4.233341800016934,
    "scale": 16000
   },
   {
    "level": 1,
    "resolution": 2.116670900008467,
    "scale": 8000
   },
   {
    "level": 2,
    "resolution": 1.0583354500042335,
    "scale": 4000
   },
   {
    "level": 3,
    "resolution": 0.5291677250021167,
    "scale": 2000
   },
   {
    "level": 4,
    "resolution": 0.26458386250105836,
    "scale": 1000
   }
  ]
 },
 "cacheType": "Map",
 "allowRasterFunction": true,
 "rasterFunctionInfos": [
  {
   "name": "None",
   "description": "",
   "help": ""
  }
 ],
 "rasterTypeInfos": [
  {
   "name": "Raster Dataset",
   "description": "Supports all ArcGIS Raster Datasets",
   "help": ""
  }
 ],
 "mensurationCapabilities": "Basic",
 "hasHistograms": true,
 "hasColormap": false,
 "hasRasterAttributeTable": false,
 "minScale": 16000,
 "maxScale": 1000,
 "exportTilesAllowed": false,
 "hasMultidimensions": false,
 "supportsStatistics": false,
 "supportsAdvancedQueries": false,
 "editFieldsInfo": null,
 "ownershipBasedAccessControlForRasters": null,
 "allowComputeTiePoints": false,
 "useStandardizedQueries": true,
 "advancedQueryCapabilities": {
  "useStandardizedQueries": true,
  "supportsStatistics": false,
  "supportsOrderBy": false,
  "supportsDistinct": false,
  "supportsPagination": false
 },
 "spatialReference": {
  "wkid": 32719,
  "latestWkid": 32719
 }
}
