{
 "currentVersion": 10.71,
 "serviceDescription": "Modelo de sombras de laderas",
 "name": "Trabajo_Campo/Modelo_Sombreado",
 "description": "Modelo de sombras de laderas",
 "extent": {
  "xmin": 389801.5043329758,
  "ymin": 6648109.296967724,
  "xmax": 422097.1656689678,
  "ymax": 6683649.006796659,
  "spatialReference": {
   "wkid": 31994,
   "latestWkid": 31994
  }
 },
 "initialExtent": {
  "xmin": 389801.5043329758,
  "ymin": 6648109.296967724,
  "xmax": 422097.1656689678,
  "ymax": 6683649.006796659,
  "spatialReference": {
   "wkid": 31994,
   "latestWkid": 31994
  }
 },
 "fullExtent": {
  "xmin": 389801.5043329758,
  "ymin": 6648109.296967724,
  "xmax": 422097.1656689678,
  "ymax": 6683649.006796659,
  "spatialReference": {
   "wkid": 31994,
   "latestWkid": 31994
  }
 },
 "pixelSizeX": 28.96471868698838,
 "pixelSizeY": 28.96471868698829,
 "bandCount": 1,
 "pixelType": "U8",
 "minPixelSize": 0,
 "maxPixelSize": 0,
 "copyrightText": "DGA",
 "serviceDataType": "esriImageServiceDataTypeThematic",
 "minValues": [
  25
 ],
 "maxValues": [
  244
 ],
 "meanValues": [
  149.84632437823578
 ],
 "stdvValues": [
  46.24090316449633
 ],
 "objectIdField": "",
 "fields": [],
 "capabilities": "Image,Mensuration,Metadata,Tilemap",
 "defaultMosaicMethod": "Center",
 "allowedMosaicMethods": "",
 "sortField": "",
 "sortValue": null,
 "mosaicOperator": "First",
 "defaultCompressionQuality": 75,
 "defaultResamplingMethod": "Bilinear",
 "maxImageHeight": 4100,
 "maxImageWidth": 15000,
 "allowRasterFunction": true,
 "rasterFunctionInfos": [
  {
   "name": "None",
   "description": "",
   "help": ""
  }
 ],
 "rasterTypeInfos": [
  {
   "name": "Raster Dataset",
   "description": "Supports all ArcGIS Raster Datasets",
   "help": ""
  }
 ],
 "mensurationCapabilities": "Basic",
 "hasHistograms": true,
 "hasColormap": false,
 "hasRasterAttributeTable": true,
 "minScale": 0,
 "maxScale": 0,
 "exportTilesAllowed": false,
 "hasMultidimensions": false,
 "supportsStatistics": false,
 "supportsAdvancedQueries": false,
 "editFieldsInfo": null,
 "ownershipBasedAccessControlForRasters": null,
 "allowComputeTiePoints": false,
 "useStandardizedQueries": true,
 "advancedQueryCapabilities": {
  "useStandardizedQueries": true,
  "supportsStatistics": false,
  "supportsOrderBy": false,
  "supportsDistinct": false,
  "supportsPagination": false
 },
 "spatialReference": {
  "wkid": 31994,
  "latestWkid": 31994
 }
}
