{
 "currentVersion": 10.71,
 "serviceDescription": "Proceso de imagen",
 "name": "Trabajo_Campo/Process_Area",
 "description": "Proceso de imagen",
 "extent": {
  "xmin": 389818.69999952125,
  "ymin": 6648103.756095052,
  "xmax": 422093.69999952125,
  "ymax": 6683641.256095052,
  "spatialReference": {
   "wkid": 31994,
   "latestWkid": 31994
  }
 },
 "initialExtent": {
  "xmin": 389818.69999952125,
  "ymin": 6648103.756095052,
  "xmax": 422093.69999952125,
  "ymax": 6683641.256095052,
  "spatialReference": {
   "wkid": 31994,
   "latestWkid": 31994
  }
 },
 "fullExtent": {
  "xmin": 389818.69999952125,
  "ymin": 6648103.756095052,
  "xmax": 422093.69999952125,
  "ymax": 6683641.256095052,
  "spatialReference": {
   "wkid": 31994,
   "latestWkid": 31994
  }
 },
 "pixelSizeX": 12.5,
 "pixelSizeY": 12.5,
 "bandCount": 1,
 "pixelType": "F32",
 "minPixelSize": 0,
 "maxPixelSize": 0,
 "copyrightText": "DGA",
 "serviceDataType": "esriImageServiceDataTypeGeneric",
 "minValues": [
  1
 ],
 "maxValues": [
  95029
 ],
 "meanValues": [
  272.73867825095596
 ],
 "stdvValues": [
  1347.2376491683376
 ],
 "objectIdField": "",
 "fields": [],
 "capabilities": "Image,Mensuration,Metadata,Tilemap",
 "defaultMosaicMethod": "Center",
 "allowedMosaicMethods": "",
 "sortField": "",
 "sortValue": null,
 "mosaicOperator": "First",
 "defaultCompressionQuality": 75,
 "defaultResamplingMethod": "Bilinear",
 "maxImageHeight": 4100,
 "maxImageWidth": 15000,
 "allowRasterFunction": true,
 "rasterFunctionInfos": [
  {
   "name": "None",
   "description": "",
   "help": ""
  }
 ],
 "rasterTypeInfos": [
  {
   "name": "Raster Dataset",
   "description": "Supports all ArcGIS Raster Datasets",
   "help": ""
  }
 ],
 "mensurationCapabilities": "Basic",
 "hasHistograms": true,
 "hasColormap": false,
 "hasRasterAttributeTable": false,
 "minScale": 0,
 "maxScale": 0,
 "exportTilesAllowed": false,
 "hasMultidimensions": false,
 "supportsStatistics": false,
 "supportsAdvancedQueries": false,
 "editFieldsInfo": null,
 "ownershipBasedAccessControlForRasters": null,
 "allowComputeTiePoints": false,
 "useStandardizedQueries": true,
 "advancedQueryCapabilities": {
  "useStandardizedQueries": true,
  "supportsStatistics": false,
  "supportsOrderBy": false,
  "supportsDistinct": false,
  "supportsPagination": false
 },
 "spatialReference": {
  "wkid": 31994,
  "latestWkid": 31994
 }
}
