{
 "currentVersion": 10.71,
 "serviceDescription": "Modelo Pendiente",
 "name": "Trabajo_Campo/Slope",
 "description": "Modelo Pendiente",
 "extent": {
  "xmin": 389801.5043339905,
  "ymin": 6648109.296877031,
  "xmax": 422097.16567025025,
  "ymax": 6683649.00670626,
  "spatialReference": {
   "wkid": 31994,
   "latestWkid": 31994
  }
 },
 "initialExtent": {
  "xmin": 389801.5043339905,
  "ymin": 6648109.296877031,
  "xmax": 422097.16567025025,
  "ymax": 6683649.00670626,
  "spatialReference": {
   "wkid": 31994,
   "latestWkid": 31994
  }
 },
 "fullExtent": {
  "xmin": 389801.5043339905,
  "ymin": 6648109.296877031,
  "xmax": 422097.16567025025,
  "ymax": 6683649.00670626,
  "spatialReference": {
   "wkid": 31994,
   "latestWkid": 31994
  }
 },
 "pixelSizeX": 28.96471868722847,
 "pixelSizeY": 28.964718687228142,
 "bandCount": 1,
 "pixelType": "F32",
 "minPixelSize": 0,
 "maxPixelSize": 0,
 "copyrightText": "DGA",
 "serviceDataType": "esriImageServiceDataTypeGeneric",
 "minValues": [
  0
 ],
 "maxValues": [
  65.35282897949219
 ],
 "meanValues": [
  27.145447143988417
 ],
 "stdvValues": [
  9.089324739865969
 ],
 "objectIdField": "",
 "fields": [],
 "capabilities": "Image,Mensuration,Metadata,Tilemap",
 "defaultMosaicMethod": "Center",
 "allowedMosaicMethods": "",
 "sortField": "",
 "sortValue": null,
 "mosaicOperator": "First",
 "defaultCompressionQuality": 75,
 "defaultResamplingMethod": "Bilinear",
 "maxImageHeight": 4100,
 "maxImageWidth": 15000,
 "allowRasterFunction": true,
 "rasterFunctionInfos": [
  {
   "name": "None",
   "description": "",
   "help": ""
  }
 ],
 "rasterTypeInfos": [
  {
   "name": "Raster Dataset",
   "description": "Supports all ArcGIS Raster Datasets",
   "help": ""
  }
 ],
 "mensurationCapabilities": "Basic",
 "hasHistograms": true,
 "hasColormap": false,
 "hasRasterAttributeTable": false,
 "minScale": 0,
 "maxScale": 0,
 "exportTilesAllowed": false,
 "hasMultidimensions": false,
 "supportsStatistics": false,
 "supportsAdvancedQueries": false,
 "editFieldsInfo": null,
 "ownershipBasedAccessControlForRasters": null,
 "allowComputeTiePoints": false,
 "useStandardizedQueries": true,
 "advancedQueryCapabilities": {
  "useStandardizedQueries": true,
  "supportsStatistics": false,
  "supportsOrderBy": false,
  "supportsDistinct": false,
  "supportsPagination": false
 },
 "spatialReference": {
  "wkid": 31994,
  "latestWkid": 31994
 }
}
