View In:
ArcGIS JavaScript
ArcGIS Online Map Viewer
ArcGIS Earth
ArcMap
View Footprint In:
ArcGIS Online Map Viewer
Service Description: Emergencia_incendio2024/HillSha_Viña
Name: Emergencia_incendio2024/HillSha_Viña
Description:
Single Fused Map Cache: false
Extent:
XMin: 266327.87952
YMin: 6343011.39625
XMax: 268820.8707
YMax: 6345749.55202
Spatial Reference: 32719
(32719)
Initial Extent:
XMin: 266327.87952
YMin: 6343011.39625
XMax: 268820.8707
YMax: 6345749.55202
Spatial Reference: 32719
(32719)
Full Extent:
XMin: 266327.87952
YMin: 6343011.39625
XMax: 268820.8707
YMax: 6345749.55202
Spatial Reference: 32719
(32719)
Pixel Size X: 0.3230100000000015
Pixel Size Y: 0.3230100000000083
Band Count: 1
Pixel Type: U8
RasterFunction Infos: {"rasterFunctionInfos": [{
"name": "None",
"description": "",
"help": ""
}]}
Mensuration Capabilities: Basic
Has Histograms: true
Has Colormap: false
Has Multi Dimensions : false
Rendering Rule:
Min Scale: 0
Max Scale: 0
Copyright Text:
Service Data Type: esriImageServiceDataTypeGeneric
Min Values: 0
Max Values: 254
Mean Values: 172.52481430412
Standard Deviation Values: 41.965420192977
Object ID Field:
Fields:
None
Default Mosaic Method: Center
Allowed Mosaic Methods:
SortField:
SortValue: null
Mosaic Operator: First
Default Compression Quality: 75
Default Resampling Method: Bilinear
Max Record Count: null
Max Image Height: 4100
Max Image Width: 15000
Max Download Image Count: null
Max Mosaic Image Count: null
Allow Raster Function: true
Allow Compute TiePoints: false
Supports Statistics: false
Supports Advanced Queries: false
Use StandardizedQueries: true
Raster Type Infos:
Name: Raster Dataset
Description: Supports all ArcGIS Raster Datasets
Help:
Has Raster Attribute Table: true
Edit Fields Info: null
Ownership Based AccessControl For Rasters: null
Child Resources:
Info
Raster Attribute Table
Histograms
Key Properties
Legend
MultiDimensionalInfo
rasterFunctionInfos
Supported Operations:
Export Image
Identify
Measure
Compute Histograms
Compute Statistics Histograms
Get Samples
Compute Class Statistics
Query Boundary
Compute Pixel Location