View In:
ArcGIS JavaScript
ArcGIS Online Map Viewer
ArcGIS Earth
ArcMap
View Footprint In:
ArcGIS Online Map Viewer
Service Description: Emergencia_incendio2024/HillSha_VillaDulce
Name: Emergencia_incendio2024/HillSha_VillaDulce
Description:
Single Fused Map Cache: false
Extent:
XMin: 264797.85744000005
YMin: 6340844.20912
XMax: 267638.13884
YMax: 6343485.32089
Spatial Reference: 32719
(32719)
Initial Extent:
XMin: 264797.85744000005
YMin: 6340844.20912
XMax: 267638.13884
YMax: 6343485.32089
Spatial Reference: 32719
(32719)
Full Extent:
XMin: 264797.85744000005
YMin: 6340844.20912
XMax: 267638.13884
YMax: 6343485.32089
Spatial Reference: 32719
(32719)
Pixel Size X: 0.29160999999999776
Pixel Size Y: 0.29161000000003406
Band Count: 1
Pixel Type: U8
RasterFunction Infos: {"rasterFunctionInfos": [{
"name": "None",
"description": "",
"help": ""
}]}
Mensuration Capabilities: Basic
Has Histograms: true
Has Colormap: false
Has Multi Dimensions : false
Rendering Rule:
Min Scale: 0
Max Scale: 0
Copyright Text:
Service Data Type: esriImageServiceDataTypeGeneric
Min Values: 0
Max Values: 254
Mean Values: 158.89888883089
Standard Deviation Values: 48.871083689334
Object ID Field:
Fields:
None
Default Mosaic Method: Center
Allowed Mosaic Methods:
SortField:
SortValue: null
Mosaic Operator: First
Default Compression Quality: 75
Default Resampling Method: Bilinear
Max Record Count: null
Max Image Height: 4100
Max Image Width: 15000
Max Download Image Count: null
Max Mosaic Image Count: null
Allow Raster Function: true
Allow Compute TiePoints: false
Supports Statistics: false
Supports Advanced Queries: false
Use StandardizedQueries: true
Raster Type Infos:
Name: Raster Dataset
Description: Supports all ArcGIS Raster Datasets
Help:
Has Raster Attribute Table: true
Edit Fields Info: null
Ownership Based AccessControl For Rasters: null
Child Resources:
Info
Raster Attribute Table
Histograms
Key Properties
Legend
MultiDimensionalInfo
rasterFunctionInfos
Supported Operations:
Export Image
Identify
Measure
Compute Histograms
Compute Statistics Histograms
Get Samples
Compute Class Statistics
Query Boundary
Compute Pixel Location