View In:
ArcGIS JavaScript
ArcGIS Online Map Viewer
ArcGIS Earth
ArcMap
View Footprint In:
ArcGIS Online Map Viewer
Service Description: TopographicWetnes
Name: Trabajo_Campo/TopographicWetnes
Description: TopographicWetnes
Single Fused Map Cache: false
Extent:
XMin: 389801.5043339908
YMin: 6648109.29687703
XMax: 422097.1656702188
YMax: 6683649.006706225
Spatial Reference: 31994
(31994)
Initial Extent:
XMin: 389801.5043339908
YMin: 6648109.29687703
XMax: 422097.1656702188
YMax: 6683649.006706225
Spatial Reference: 31994
(31994)
Full Extent:
XMin: 389801.5043339908
YMin: 6648109.29687703
XMax: 422097.1656702188
YMax: 6683649.006706225
Spatial Reference: 31994
(31994)
Pixel Size X: 28.964718687200016
Pixel Size Y: 28.964718687200058
Band Count: 1
Pixel Type: F32
RasterFunction Infos: {"rasterFunctionInfos": [{
"name": "None",
"description": "",
"help": ""
}]}
Mensuration Capabilities: Basic
Has Histograms: true
Has Colormap: false
Has Multi Dimensions : false
Rendering Rule:
Min Scale: 0
Max Scale: 0
Copyright Text: DGA
Service Data Type: esriImageServiceDataTypeGeneric
Min Values: 6.64030122756958
Max Values: 26.249818801879883
Mean Values: 10.196477278739108
Standard Deviation Values: 1.994977267682983
Object ID Field:
Fields:
None
Default Mosaic Method: Center
Allowed Mosaic Methods:
SortField:
SortValue: null
Mosaic Operator: First
Default Compression Quality: 75
Default Resampling Method: Bilinear
Max Record Count: null
Max Image Height: 4100
Max Image Width: 15000
Max Download Image Count: null
Max Mosaic Image Count: null
Allow Raster Function: true
Allow Compute TiePoints: false
Supports Statistics: false
Supports Advanced Queries: false
Use StandardizedQueries: true
Raster Type Infos:
Name: Raster Dataset
Description: Supports all ArcGIS Raster Datasets
Help:
Has Raster Attribute Table: false
Edit Fields Info: null
Ownership Based AccessControl For Rasters: null
Child Resources:
Info
Histograms
Key Properties
Legend
MultiDimensionalInfo
rasterFunctionInfos
Supported Operations:
Export Image
Identify
Measure
Compute Histograms
Compute Statistics Histograms
Get Samples
Compute Class Statistics
Query Boundary
Compute Pixel Location