View In:
ArcGIS JavaScript
ArcGIS Online Map Viewer
ArcGIS Earth
ArcMap
View Footprint In:
ArcGIS Online Map Viewer
Service Description: 2023_SKYSAT_DGA/SDNG_2023_SKYSAT_APLICADA_01_ARIC_SURIRE
Name: 2023_SKYSAT_DGA/SDNG_2023_SKYSAT_APLICADA_01_ARIC_SURIRE
Description:
Single Fused Map Cache: false
Extent:
XMin: 484406
YMin: 7906331
XMax: 504998.5
YMax: 7924104.5
Spatial Reference: 32719
(32719)
Initial Extent:
XMin: 484406
YMin: 7906331
XMax: 504998.5
YMax: 7924104.5
Spatial Reference: 32719
(32719)
Full Extent:
XMin: 484406
YMin: 7906331
XMax: 504998.5
YMax: 7924104.5
Spatial Reference: 32719
(32719)
Pixel Size X: 0.5
Pixel Size Y: 0.5
Band Count: 3
Pixel Type: U8
RasterFunction Infos: {"rasterFunctionInfos": [{
"name": "None",
"description": "",
"help": ""
}]}
Mensuration Capabilities: None
Has Histograms: true
Has Colormap: false
Has Multi Dimensions : false
Rendering Rule:
Min Scale: 0
Max Scale: 0
Copyright Text:
Service Data Type: esriImageServiceDataTypeRGB
Min Values: 0, 0, 0
Max Values: 255, 255, 255
Mean Values: 66.25659823588349, 62.900497897694336, 59.58664569590182
Standard Deviation Values: 72.36243412461037, 73.36730998384915, 72.82905764029688
Object ID Field: OBJECTID
Fields:
-
OBJECTID
(
type: esriFieldTypeOID, alias: OBJECTID, editable: false, nullable: false
)
-
Shape
(
type: esriFieldTypeGeometry, alias: Shape, editable: true, nullable: true
)
-
Name
(
type: esriFieldTypeString, alias: Name, editable: true, nullable: true, length: 200
)
-
MinPS
(
type: esriFieldTypeDouble, alias: MinPS, editable: true, nullable: true
)
-
MaxPS
(
type: esriFieldTypeDouble, alias: MaxPS, editable: true, nullable: true
)
-
LowPS
(
type: esriFieldTypeDouble, alias: LowPS, editable: true, nullable: true
)
-
HighPS
(
type: esriFieldTypeDouble, alias: HighPS, editable: true, nullable: true
)
-
Category
(
type: esriFieldTypeInteger, alias: Category, editable: false, nullable: true
, Coded Values:
[0: Unknown]
, [1: Primary]
, [2: Overview]
, ...6 more...
)
-
Tag
(
type: esriFieldTypeString, alias: Tag, editable: true, nullable: true, length: 100
)
-
GroupName
(
type: esriFieldTypeString, alias: GroupName, editable: true, nullable: true, length: 100
)
-
ProductName
(
type: esriFieldTypeString, alias: ProductName, editable: true, nullable: true, length: 100
)
-
CenterX
(
type: esriFieldTypeDouble, alias: CenterX, editable: true, nullable: true
)
-
CenterY
(
type: esriFieldTypeDouble, alias: CenterY, editable: true, nullable: true
)
-
ZOrder
(
type: esriFieldTypeInteger, alias: ZOrder, editable: true, nullable: true
)
-
Shape_Length
(
type: esriFieldTypeDouble, alias: Shape_Length, editable: false, nullable: true
)
-
Shape_Area
(
type: esriFieldTypeDouble, alias: Shape_Area, editable: false, nullable: true
)
Default Mosaic Method: Northwest
Allowed Mosaic Methods: NorthWest,Center,LockRaster,ByAttribute,Nadir,Viewpoint,Seamline,None
SortField:
SortValue: null
Mosaic Operator: First
Default Compression Quality: 75
Default Resampling Method: Bilinear
Max Record Count: 1000
Max Image Height: 4100
Max Image Width: 15000
Max Download Image Count: 20
Max Mosaic Image Count: 20
Allow Raster Function: true
Allow Copy: true
Allow Analysis: true
Allow Compute TiePoints: false
Supports Statistics: true
Supports Advanced Queries: true
Use StandardizedQueries: true
Raster Type Infos:
Name: Raster Dataset
Description: Supports all ArcGIS Raster Datasets
Help:
Has Raster Attribute Table: false
Edit Fields Info: null
Ownership Based AccessControl For Rasters: null
Child Resources:
Info
Histograms
Statistics
Key Properties
Uploads
Legend
Raster Function Infos
Supported Operations:
Export Image
Query
Identify
Download Rasters
Add Rasters
Update Raster
Delete Rasters
Measure
Compute Histograms
Compute Statistics Histograms
Get Samples
Compute Class Statistics
Query Boundary
Compute Pixel Location
Validate
Project