View In:
ArcGIS JavaScript
ArcGIS Online Map Viewer
ArcGIS Earth
ArcMap
View Footprint In:
ArcGIS Online Map Viewer
Service Description: 2024_SKYSAT_RNVV/LASCAR
Name: 2024_SKYSAT_RNVV/LASCAR
Description:
Single Fused Map Cache: false
Extent:
XMin: 616952.5
YMin: 7402782.5
XMax: 638910
YMax: 7427480.5
Spatial Reference: 32719
(32719)
Initial Extent:
XMin: 616952.5
YMin: 7402782.5
XMax: 638910
YMax: 7427480.5
Spatial Reference: 32719
(32719)
Full Extent:
XMin: 616952.5
YMin: 7402782.5
XMax: 638910
YMax: 7427480.5
Spatial Reference: 32719
(32719)
Time Info:
Start Time Field: AcquisitionDate
End Time Field: null
Time Extent:
[2024/07/09 18:11:05 UTC, 2024/12/17 12:28:28 UTC]
Time Reference:
N/A
Pixel Size X: 0.5
Pixel Size Y: 0.5
Band Count: 4
Pixel Type: U16
RasterFunction Infos: {"rasterFunctionInfos": [
{
"name": "None",
"description": "Crear un ráster o un dataset ráster en un dataset ráster de función.",
"help": ""
},
{
"name": "Combinación color verdadero 321",
"description": "en la estructura de estas bandas 321",
"help": ""
},
{
"name": "Combinación color verdadero 432",
"description": "en la estructura de estas bandas 432",
"help": ""
}
]}
Mensuration Capabilities: Basic,Base-Top Shadow Height
Has Histograms: true
Has Colormap: false
Has Multi Dimensions : false
Rendering Rule:
Min Scale: 0
Max Scale: 0
Copyright Text:
Service Data Type: esriImageServiceDataTypeGeneric
Min Values: 55, 36, 22, 4
Max Values: 1605, 1827, 1996, 1378
Mean Values: 205.5642993861829, 227.99092241468753, 275.2115020008541, 214.5631605473131
Standard Deviation Values: 51.21058420470981, 69.34790615434997, 97.36293743968622, 83.52458887981513
Object ID Field: OBJECTID
Fields:
-
OBJECTID
(
type: esriFieldTypeOID, alias: OBJECTID
)
-
Shape
(
type: esriFieldTypeGeometry, alias: Shape
)
-
Name
(
type: esriFieldTypeString, alias: Name, length: 200
)
-
MinPS
(
type: esriFieldTypeDouble, alias: MinPS
)
-
MaxPS
(
type: esriFieldTypeDouble, alias: MaxPS
)
-
LowPS
(
type: esriFieldTypeDouble, alias: LowPS
)
-
HighPS
(
type: esriFieldTypeDouble, alias: HighPS
)
-
Category
(
type: esriFieldTypeInteger, alias: Category
, Coded Values:
[0: Unknown]
, [1: Primary]
, [2: Overview]
, ...6 more...
)
-
Tag
(
type: esriFieldTypeString, alias: Tag, length: 100
)
-
GroupName
(
type: esriFieldTypeString, alias: GroupName, length: 100
)
-
ProductName
(
type: esriFieldTypeString, alias: ProductName, length: 100
)
-
CenterX
(
type: esriFieldTypeDouble, alias: CenterX
)
-
CenterY
(
type: esriFieldTypeDouble, alias: CenterY
)
-
ZOrder
(
type: esriFieldTypeInteger, alias: ZOrder
)
-
Shape_Length
(
type: esriFieldTypeDouble, alias: Shape_Length
)
-
Shape_Area
(
type: esriFieldTypeDouble, alias: Shape_Area
)
-
StereoID
(
type: esriFieldTypeString, alias: StereoID, length: 50
)
-
SensorName
(
type: esriFieldTypeString, alias: Sensor Name, length: 20
)
-
AcquisitionDate
(
type: esriFieldTypeDate, alias: Acquisition Date, length: 8
)
-
SunAzimuth
(
type: esriFieldTypeDouble, alias: Sun Azimuth
)
-
SunElevation
(
type: esriFieldTypeDouble, alias: Sun Elevation
)
-
SatAzimuth
(
type: esriFieldTypeDouble, alias: Satellite Azimuth
)
-
CloudCover
(
type: esriFieldTypeDouble, alias: Cloud Cover
)
Default Mosaic Method: Northwest
Allowed Mosaic Methods: NorthWest,Center,LockRaster,ByAttribute,Nadir,Viewpoint,Seamline,None
SortField:
SortValue: null
Mosaic Operator: First
Default Compression Quality: 75
Default Resampling Method: Bilinear
Max Record Count: 1000
Max Image Height: 4100
Max Image Width: 15000
Max Download Image Count: 20
Max Mosaic Image Count: 20
Allow Raster Function: true
Allow Copy: true
Allow Analysis: true
Allow Compute TiePoints: false
Supports Statistics: true
Supports Advanced Queries: true
Use StandardizedQueries: true
Raster Type Infos:
Name: Raster Dataset
Description: Supports all ArcGIS Raster Datasets
Help:
Has Raster Attribute Table: false
Edit Fields Info: null
Ownership Based AccessControl For Rasters: null
Child Resources:
Info
Histograms
Statistics
Key Properties
Legend
Raster Function Infos
Supported Operations:
Export Image
Query
Identify
Measure
Compute Histograms
Compute Statistics Histograms
Get Samples
Compute Class Statistics
Query Boundary
Compute Pixel Location
Validate
Project