View In:
ArcGIS JavaScript
ArcGIS Online Map Viewer
ArcGIS Earth
ArcMap
View Footprint In:
ArcGIS Online Map Viewer
Service Description: Emergencia_incendio2024/Slope_CanalB
Name: Emergencia_incendio2024/Slope_CanalB
Description:
Single Fused Map Cache: false
Extent:
XMin: 263651.90775
YMin: 6340332.29879
XMax: 266189.5764
YMax: 6342582.75843
Spatial Reference: 32719
(32719)
Initial Extent:
XMin: 263651.90775
YMin: 6340332.29879
XMax: 266189.5764
YMax: 6342582.75843
Spatial Reference: 32719
(32719)
Full Extent:
XMin: 263651.90775
YMin: 6340332.29879
XMax: 266189.5764
YMax: 6342582.75843
Spatial Reference: 32719
(32719)
Pixel Size X: 0.357670000000001
Pixel Size Y: 0.3576700000000025
Band Count: 1
Pixel Type: F32
RasterFunction Infos: {"rasterFunctionInfos": [{
"name": "None",
"description": "",
"help": ""
}]}
Mensuration Capabilities: Basic
Has Histograms: true
Has Colormap: false
Has Multi Dimensions : false
Rendering Rule:
Min Scale: 0
Max Scale: 0
Copyright Text:
Service Data Type: esriImageServiceDataTypeGeneric
Min Values: 0
Max Values: 77.061637878418
Mean Values: 19.106906993885
Standard Deviation Values: 12.78344962052
Object ID Field:
Fields:
None
Default Mosaic Method: Center
Allowed Mosaic Methods:
SortField:
SortValue: null
Mosaic Operator: First
Default Compression Quality: 75
Default Resampling Method: Bilinear
Max Record Count: null
Max Image Height: 4100
Max Image Width: 15000
Max Download Image Count: null
Max Mosaic Image Count: null
Allow Raster Function: true
Allow Compute TiePoints: false
Supports Statistics: false
Supports Advanced Queries: false
Use StandardizedQueries: true
Raster Type Infos:
Name: Raster Dataset
Description: Supports all ArcGIS Raster Datasets
Help:
Has Raster Attribute Table: false
Edit Fields Info: null
Ownership Based AccessControl For Rasters: null
Child Resources:
Info
Histograms
Key Properties
Legend
MultiDimensionalInfo
rasterFunctionInfos
Supported Operations:
Export Image
Identify
Measure
Compute Histograms
Compute Statistics Histograms
Get Samples
Compute Class Statistics
Query Boundary
Compute Pixel Location