View In:
ArcGIS JavaScript
ArcGIS Online Map Viewer
ArcGIS Earth
ArcMap
View Footprint In:
ArcGIS Online Map Viewer
Service Description: Emergencia_incendio2024/Slope_Villa_dulce
Name: Emergencia_incendio2024/Slope_Villa_dulce
Description:
Single Fused Map Cache: true
Tile Info:
- Height: 256
- Width: 256
- DPI: 96
-
Levels of Detail: 5
- Format: MIXED
- Compression Quality: 75.0
- LERC Error: NaN
- Origin: X: -5120900.0
Y: 1.99981E7
- Spatial Reference: 32719
(32719)
Extent:
XMin: 264797.85744000005
YMin: 6340844.20912
XMax: 267638.13884
YMax: 6343485.32089
Spatial Reference: 32719
(32719)
Initial Extent:
XMin: 264797.85744000005
YMin: 6340844.20912
XMax: 267638.13884
YMax: 6343485.32089
Spatial Reference: 32719
(32719)
Full Extent:
XMin: 264797.85744000005
YMin: 6340844.20912
XMax: 267638.13884
YMax: 6343485.32089
Spatial Reference: 32719
(32719)
Pixel Size X: 0.29160999999999776
Pixel Size Y: 0.29161000000003406
Band Count: 1
Pixel Type: F32
RasterFunction Infos: {"rasterFunctionInfos": [{
"name": "None",
"description": "",
"help": ""
}]}
Mensuration Capabilities: Basic
Has Histograms: true
Has Colormap: false
Has Multi Dimensions : false
Rendering Rule:
Min Scale: 16000
Max Scale: 1000
Copyright Text:
Service Data Type: esriImageServiceDataTypeGeneric
Min Values: 0
Max Values: 69.970344543457
Mean Values: 16.917276882893
Standard Deviation Values: 11.114661924279
Object ID Field:
Fields:
None
Default Mosaic Method: Center
Allowed Mosaic Methods:
SortField:
SortValue: null
Mosaic Operator: First
Default Compression Quality: 75
Default Resampling Method: Bilinear
Max Record Count: null
Max Image Height: 4100
Max Image Width: 15000
Max Download Image Count: null
Max Mosaic Image Count: null
Allow Raster Function: true
Allow Compute TiePoints: false
Supports Statistics: false
Supports Advanced Queries: false
Use StandardizedQueries: true
Raster Type Infos:
Name: Raster Dataset
Description: Supports all ArcGIS Raster Datasets
Help:
Has Raster Attribute Table: false
Edit Fields Info: null
Ownership Based AccessControl For Rasters: null
Child Resources:
Info
Histograms
Key Properties
Legend
MultiDimensionalInfo
rasterFunctionInfos
Supported Operations:
Export Image
Identify
Measure
Compute Histograms
Compute Statistics Histograms
Get Samples
Compute Class Statistics
Query Boundary
Compute Pixel Location