View In:
ArcGIS JavaScript
ArcGIS Online Map Viewer
ArcGIS Earth
ArcMap
View Footprint In:
ArcGIS Online Map Viewer
Service Description: Modelo de sombras de laderas
Name: Trabajo_Campo/Modelo_Sombreado
Description: Modelo de sombras de laderas
Single Fused Map Cache: false
Extent:
XMin: 389801.5043329758
YMin: 6648109.296967724
XMax: 422097.1656689678
YMax: 6683649.006796659
Spatial Reference: 31994
(31994)
Initial Extent:
XMin: 389801.5043329758
YMin: 6648109.296967724
XMax: 422097.1656689678
YMax: 6683649.006796659
Spatial Reference: 31994
(31994)
Full Extent:
XMin: 389801.5043329758
YMin: 6648109.296967724
XMax: 422097.1656689678
YMax: 6683649.006796659
Spatial Reference: 31994
(31994)
Pixel Size X: 28.96471868698838
Pixel Size Y: 28.96471868698829
Band Count: 1
Pixel Type: U8
RasterFunction Infos: {"rasterFunctionInfos": [{
"name": "None",
"description": "",
"help": ""
}]}
Mensuration Capabilities: Basic
Has Histograms: true
Has Colormap: false
Has Multi Dimensions : false
Rendering Rule:
Min Scale: 0
Max Scale: 0
Copyright Text: DGA
Service Data Type: esriImageServiceDataTypeThematic
Min Values: 25
Max Values: 244
Mean Values: 149.84632437823578
Standard Deviation Values: 46.24090316449633
Object ID Field:
Fields:
None
Default Mosaic Method: Center
Allowed Mosaic Methods:
SortField:
SortValue: null
Mosaic Operator: First
Default Compression Quality: 75
Default Resampling Method: Bilinear
Max Record Count: null
Max Image Height: 4100
Max Image Width: 15000
Max Download Image Count: null
Max Mosaic Image Count: null
Allow Raster Function: true
Allow Compute TiePoints: false
Supports Statistics: false
Supports Advanced Queries: false
Use StandardizedQueries: true
Raster Type Infos:
Name: Raster Dataset
Description: Supports all ArcGIS Raster Datasets
Help:
Has Raster Attribute Table: true
Edit Fields Info: null
Ownership Based AccessControl For Rasters: null
Child Resources:
Info
Raster Attribute Table
Histograms
Key Properties
Legend
MultiDimensionalInfo
rasterFunctionInfos
Supported Operations:
Export Image
Identify
Measure
Compute Histograms
Compute Statistics Histograms
Get Samples
Compute Class Statistics
Query Boundary
Compute Pixel Location