View In:
ArcGIS JavaScript
ArcGIS Online Map Viewer
ArcGIS Earth
ArcMap
View Footprint In:
ArcGIS Online Map Viewer
Service Description: Proceso de imagen
Name: Trabajo_Campo/Process_Area
Description: Proceso de imagen
Single Fused Map Cache: false
Extent:
XMin: 389818.69999952125
YMin: 6648103.756095052
XMax: 422093.69999952125
YMax: 6683641.256095052
Spatial Reference: 31994
(31994)
Initial Extent:
XMin: 389818.69999952125
YMin: 6648103.756095052
XMax: 422093.69999952125
YMax: 6683641.256095052
Spatial Reference: 31994
(31994)
Full Extent:
XMin: 389818.69999952125
YMin: 6648103.756095052
XMax: 422093.69999952125
YMax: 6683641.256095052
Spatial Reference: 31994
(31994)
Pixel Size X: 12.5
Pixel Size Y: 12.5
Band Count: 1
Pixel Type: F32
RasterFunction Infos: {"rasterFunctionInfos": [{
"name": "None",
"description": "",
"help": ""
}]}
Mensuration Capabilities: Basic
Has Histograms: true
Has Colormap: false
Has Multi Dimensions : false
Rendering Rule:
Min Scale: 0
Max Scale: 0
Copyright Text: DGA
Service Data Type: esriImageServiceDataTypeGeneric
Min Values: 1
Max Values: 95029
Mean Values: 272.73867825095596
Standard Deviation Values: 1347.2376491683376
Object ID Field:
Fields:
None
Default Mosaic Method: Center
Allowed Mosaic Methods:
SortField:
SortValue: null
Mosaic Operator: First
Default Compression Quality: 75
Default Resampling Method: Bilinear
Max Record Count: null
Max Image Height: 4100
Max Image Width: 15000
Max Download Image Count: null
Max Mosaic Image Count: null
Allow Raster Function: true
Allow Compute TiePoints: false
Supports Statistics: false
Supports Advanced Queries: false
Use StandardizedQueries: true
Raster Type Infos:
Name: Raster Dataset
Description: Supports all ArcGIS Raster Datasets
Help:
Has Raster Attribute Table: false
Edit Fields Info: null
Ownership Based AccessControl For Rasters: null
Child Resources:
Info
Histograms
Key Properties
Legend
MultiDimensionalInfo
rasterFunctionInfos
Supported Operations:
Export Image
Identify
Measure
Compute Histograms
Compute Statistics Histograms
Get Samples
Compute Class Statistics
Query Boundary
Compute Pixel Location