View In:
ArcGIS JavaScript
ArcGIS Online Map Viewer
ArcGIS Earth
ArcMap
View Footprint In:
ArcGIS Online Map Viewer
Service Description: Modelo Pendiente
Name: Trabajo_Campo/Slope
Description: Modelo Pendiente
Single Fused Map Cache: false
Extent:
XMin: 389801.5043339905
YMin: 6648109.296877031
XMax: 422097.16567025025
YMax: 6683649.00670626
Spatial Reference: 31994
(31994)
Initial Extent:
XMin: 389801.5043339905
YMin: 6648109.296877031
XMax: 422097.16567025025
YMax: 6683649.00670626
Spatial Reference: 31994
(31994)
Full Extent:
XMin: 389801.5043339905
YMin: 6648109.296877031
XMax: 422097.16567025025
YMax: 6683649.00670626
Spatial Reference: 31994
(31994)
Pixel Size X: 28.96471868722847
Pixel Size Y: 28.964718687228142
Band Count: 1
Pixel Type: F32
RasterFunction Infos: {"rasterFunctionInfos": [{
"name": "None",
"description": "",
"help": ""
}]}
Mensuration Capabilities: Basic
Has Histograms: true
Has Colormap: false
Has Multi Dimensions : false
Rendering Rule:
Min Scale: 0
Max Scale: 0
Copyright Text: DGA
Service Data Type: esriImageServiceDataTypeGeneric
Min Values: 0
Max Values: 65.35282897949219
Mean Values: 27.145447143988417
Standard Deviation Values: 9.089324739865969
Object ID Field:
Fields:
None
Default Mosaic Method: Center
Allowed Mosaic Methods:
SortField:
SortValue: null
Mosaic Operator: First
Default Compression Quality: 75
Default Resampling Method: Bilinear
Max Record Count: null
Max Image Height: 4100
Max Image Width: 15000
Max Download Image Count: null
Max Mosaic Image Count: null
Allow Raster Function: true
Allow Compute TiePoints: false
Supports Statistics: false
Supports Advanced Queries: false
Use StandardizedQueries: true
Raster Type Infos:
Name: Raster Dataset
Description: Supports all ArcGIS Raster Datasets
Help:
Has Raster Attribute Table: false
Edit Fields Info: null
Ownership Based AccessControl For Rasters: null
Child Resources:
Info
Histograms
Key Properties
Legend
MultiDimensionalInfo
rasterFunctionInfos
Supported Operations:
Export Image
Identify
Measure
Compute Histograms
Compute Statistics Histograms
Get Samples
Compute Class Statistics
Query Boundary
Compute Pixel Location